BEGIN:VCALENDAR
VERSION:2.0
PRODID:-// - ECPv6.15.20//NONSGML v1.0//EN
CALSCALE:GREGORIAN
METHOD:PUBLISH
X-ORIGINAL-URL:https://schuleamwilhelmsberg.de
X-WR-CALDESC:Veranstaltungen für 
REFRESH-INTERVAL;VALUE=DURATION:PT1H
X-Robots-Tag:noindex
X-PUBLISHED-TTL:PT1H
BEGIN:VTIMEZONE
TZID:Europe/Helsinki
BEGIN:DAYLIGHT
TZOFFSETFROM:+0200
TZOFFSETTO:+0300
TZNAME:EEST
DTSTART:20250330T010000
END:DAYLIGHT
BEGIN:STANDARD
TZOFFSETFROM:+0300
TZOFFSETTO:+0200
TZNAME:EET
DTSTART:20251026T010000
END:STANDARD
BEGIN:DAYLIGHT
TZOFFSETFROM:+0200
TZOFFSETTO:+0300
TZNAME:EEST
DTSTART:20260329T010000
END:DAYLIGHT
BEGIN:STANDARD
TZOFFSETFROM:+0300
TZOFFSETTO:+0200
TZNAME:EET
DTSTART:20261025T010000
END:STANDARD
BEGIN:DAYLIGHT
TZOFFSETFROM:+0200
TZOFFSETTO:+0300
TZNAME:EEST
DTSTART:20270328T010000
END:DAYLIGHT
BEGIN:STANDARD
TZOFFSETFROM:+0300
TZOFFSETTO:+0200
TZNAME:EET
DTSTART:20271031T010000
END:STANDARD
END:VTIMEZONE
BEGIN:VEVENT
DTSTART;TZID=Europe/Helsinki:20260501T000000
DTEND;TZID=Europe/Helsinki:20260501T235959
DTSTAMP:20260419T164001
CREATED:20251215T090841Z
LAST-MODIFIED:20251215T090843Z
UID:5399-1777593600-1777679999@schuleamwilhelmsberg.de
SUMMARY:Feiertag
DESCRIPTION:
URL:https://schuleamwilhelmsberg.de/event/feiertag-2/
END:VEVENT
BEGIN:VEVENT
DTSTART;TZID=Europe/Helsinki:20260504T073500
DTEND;TZID=Europe/Helsinki:20260504T124500
DTSTAMP:20260419T164001
CREATED:20251215T090942Z
LAST-MODIFIED:20251215T092656Z
UID:5401-1777880100-1777898700@schuleamwilhelmsberg.de
SUMMARY:Wander- / Projekttag
DESCRIPTION:
URL:https://schuleamwilhelmsberg.de/event/wander-projekttag-12/
END:VEVENT
BEGIN:VEVENT
DTSTART;TZID=Europe/Helsinki:20260514T000000
DTEND;TZID=Europe/Helsinki:20260514T235959
DTSTAMP:20260419T164001
CREATED:20251215T091035Z
LAST-MODIFIED:20251215T091037Z
UID:5404-1778716800-1778803199@schuleamwilhelmsberg.de
SUMMARY:Feiertag
DESCRIPTION:
URL:https://schuleamwilhelmsberg.de/event/feiertag-3/
END:VEVENT
BEGIN:VEVENT
DTSTART;TZID=Europe/Helsinki:20260515T000000
DTEND;TZID=Europe/Helsinki:20260515T235959
DTSTAMP:20260419T164001
CREATED:20251215T091115Z
LAST-MODIFIED:20251215T091117Z
UID:5406-1778803200-1778889599@schuleamwilhelmsberg.de
SUMMARY:Brückentag
DESCRIPTION:Schule/EföB geschlossen
URL:https://schuleamwilhelmsberg.de/event/brueckentag-2/
END:VEVENT
BEGIN:VEVENT
DTSTART;TZID=Europe/Helsinki:20260520T000000
DTEND;TZID=Europe/Helsinki:20260520T235959
DTSTAMP:20260419T164001
CREATED:20251215T091148Z
LAST-MODIFIED:20251215T092813Z
UID:5408-1779235200-1779321599@schuleamwilhelmsberg.de
SUMMARY:Trikottag 
DESCRIPTION:
URL:https://schuleamwilhelmsberg.de/event/trikottag/
END:VEVENT
BEGIN:VEVENT
DTSTART;TZID=Europe/Helsinki:20260525T000000
DTEND;TZID=Europe/Helsinki:20260526T235959
DTSTAMP:20260419T164001
CREATED:20251215T091321Z
LAST-MODIFIED:20251215T091324Z
UID:5412-1779667200-1779839999@schuleamwilhelmsberg.de
SUMMARY:Pfingstferien
DESCRIPTION:
URL:https://schuleamwilhelmsberg.de/event/pfingstferien-2/
END:VEVENT
BEGIN:VEVENT
DTSTART;TZID=Europe/Helsinki:20260526T060000
DTEND;TZID=Europe/Helsinki:20260526T180000
DTSTAMP:20260419T164001
CREATED:20260401T091051Z
LAST-MODIFIED:20260401T091055Z
UID:5570-1779775200-1779818400@schuleamwilhelmsberg.de
SUMMARY:Pfingstferien (Schule und Hort geschlossen)
DESCRIPTION:
URL:https://schuleamwilhelmsberg.de/event/pfingstferien-schule-und-hort-geschlossen/
END:VEVENT
BEGIN:VEVENT
DTSTART;TZID=Europe/Helsinki:20260528T170000
DTEND;TZID=Europe/Helsinki:20260528T200000
DTSTAMP:20260419T164001
CREATED:20251215T091400Z
LAST-MODIFIED:20251215T091416Z
UID:5414-1779987600-1779998400@schuleamwilhelmsberg.de
SUMMARY:Elternversammlung 
DESCRIPTION:für die Klassen 1-5
URL:https://schuleamwilhelmsberg.de/event/elternversammlung-3/
END:VEVENT
END:VCALENDAR