BEGIN:VCALENDAR
VERSION:2.0
PRODID:-// - ECPv6.15.20//NONSGML v1.0//EN
CALSCALE:GREGORIAN
METHOD:PUBLISH
X-ORIGINAL-URL:https://schuleamwilhelmsberg.de
X-WR-CALDESC:Veranstaltungen für 
REFRESH-INTERVAL;VALUE=DURATION:PT1H
X-Robots-Tag:noindex
X-PUBLISHED-TTL:PT1H
BEGIN:VTIMEZONE
TZID:Europe/Helsinki
BEGIN:DAYLIGHT
TZOFFSETFROM:+0200
TZOFFSETTO:+0300
TZNAME:EEST
DTSTART:20250330T010000
END:DAYLIGHT
BEGIN:STANDARD
TZOFFSETFROM:+0300
TZOFFSETTO:+0200
TZNAME:EET
DTSTART:20251026T010000
END:STANDARD
BEGIN:DAYLIGHT
TZOFFSETFROM:+0200
TZOFFSETTO:+0300
TZNAME:EEST
DTSTART:20260329T010000
END:DAYLIGHT
BEGIN:STANDARD
TZOFFSETFROM:+0300
TZOFFSETTO:+0200
TZNAME:EET
DTSTART:20261025T010000
END:STANDARD
BEGIN:DAYLIGHT
TZOFFSETFROM:+0200
TZOFFSETTO:+0300
TZNAME:EEST
DTSTART:20270328T010000
END:DAYLIGHT
BEGIN:STANDARD
TZOFFSETFROM:+0300
TZOFFSETTO:+0200
TZNAME:EET
DTSTART:20271031T010000
END:STANDARD
END:VTIMEZONE
BEGIN:VEVENT
DTSTART;TZID=Europe/Helsinki:20260309T000000
DTEND;TZID=Europe/Helsinki:20260313T235959
DTSTAMP:20260419T164211
CREATED:20251215T090258Z
LAST-MODIFIED:20251215T090301Z
UID:5381-1773014400-1773446399@schuleamwilhelmsberg.de
SUMMARY:Feedback Gespräche
DESCRIPTION:Päd.+SuS +Eltern 
URL:https://schuleamwilhelmsberg.de/event/feedback-gespraeche-2/
END:VEVENT
BEGIN:VEVENT
DTSTART;TZID=Europe/Helsinki:20260311T110000
DTEND;TZID=Europe/Helsinki:20260311T180000
DTSTAMP:20260419T164211
CREATED:20251215T090344Z
LAST-MODIFIED:20251215T090346Z
UID:5383-1773226800-1773252000@schuleamwilhelmsberg.de
SUMMARY:Lehrersprechtag
DESCRIPTION:Unterr. Bis einschl. 4.h
URL:https://schuleamwilhelmsberg.de/event/lehrersprechtag-6/
END:VEVENT
BEGIN:VEVENT
DTSTART;TZID=Europe/Helsinki:20260317T073500
DTEND;TZID=Europe/Helsinki:20260317T124500
DTSTAMP:20260419T164211
CREATED:20251215T090415Z
LAST-MODIFIED:20251215T092518Z
UID:5385-1773732900-1773751500@schuleamwilhelmsberg.de
SUMMARY:Wander- / Projekttag
DESCRIPTION:
URL:https://schuleamwilhelmsberg.de/event/wander-projekttag-11/
END:VEVENT
BEGIN:VEVENT
DTSTART;TZID=Europe/Helsinki:20260319T080000
DTEND;TZID=Europe/Helsinki:20260319T170000
DTSTAMP:20260419T164211
CREATED:20251215T090443Z
LAST-MODIFIED:20251215T090445Z
UID:5387-1773907200-1773939600@schuleamwilhelmsberg.de
SUMMARY:Känguru-Wettkampf
DESCRIPTION:
URL:https://schuleamwilhelmsberg.de/event/kaenguru-wettkampf-2/
END:VEVENT
BEGIN:VEVENT
DTSTART;TZID=Europe/Helsinki:20260325T082500
DTEND;TZID=Europe/Helsinki:20260325T090500
DTSTAMP:20260419T164211
CREATED:20251215T090525Z
LAST-MODIFIED:20251215T090527Z
UID:5389-1774427100-1774429500@schuleamwilhelmsberg.de
SUMMARY:Vorlesen
DESCRIPTION:
URL:https://schuleamwilhelmsberg.de/event/vorlesen-9/
END:VEVENT
BEGIN:VEVENT
DTSTART;TZID=Europe/Helsinki:20260327T073500
DTEND;TZID=Europe/Helsinki:20260327T115500
DTSTAMP:20260419T164211
CREATED:20251215T090620Z
LAST-MODIFIED:20251215T090623Z
UID:5391-1774596900-1774612500@schuleamwilhelmsberg.de
SUMMARY:Projekttag
DESCRIPTION:1.-5. Stunde
URL:https://schuleamwilhelmsberg.de/event/projekttag-8/
END:VEVENT
BEGIN:VEVENT
DTSTART;TZID=Europe/Helsinki:20260330T000000
DTEND;TZID=Europe/Helsinki:20260410T235959
DTSTAMP:20260419T164211
CREATED:20251215T090658Z
LAST-MODIFIED:20251215T090701Z
UID:5393-1774828800-1775865599@schuleamwilhelmsberg.de
SUMMARY:Osterferien
DESCRIPTION:
URL:https://schuleamwilhelmsberg.de/event/osterferien-4/
END:VEVENT
END:VCALENDAR