BEGIN:VCALENDAR
VERSION:2.0
PRODID:-// - ECPv6.15.20//NONSGML v1.0//EN
CALSCALE:GREGORIAN
METHOD:PUBLISH
X-ORIGINAL-URL:https://schuleamwilhelmsberg.de
X-WR-CALDESC:Veranstaltungen für 
REFRESH-INTERVAL;VALUE=DURATION:PT1H
X-Robots-Tag:noindex
X-PUBLISHED-TTL:PT1H
BEGIN:VTIMEZONE
TZID:Europe/Helsinki
BEGIN:DAYLIGHT
TZOFFSETFROM:+0200
TZOFFSETTO:+0300
TZNAME:EEST
DTSTART:20250330T010000
END:DAYLIGHT
BEGIN:STANDARD
TZOFFSETFROM:+0300
TZOFFSETTO:+0200
TZNAME:EET
DTSTART:20251026T010000
END:STANDARD
BEGIN:DAYLIGHT
TZOFFSETFROM:+0200
TZOFFSETTO:+0300
TZNAME:EEST
DTSTART:20260329T010000
END:DAYLIGHT
BEGIN:STANDARD
TZOFFSETFROM:+0300
TZOFFSETTO:+0200
TZNAME:EET
DTSTART:20261025T010000
END:STANDARD
BEGIN:DAYLIGHT
TZOFFSETFROM:+0200
TZOFFSETTO:+0300
TZNAME:EEST
DTSTART:20270328T010000
END:DAYLIGHT
BEGIN:STANDARD
TZOFFSETFROM:+0300
TZOFFSETTO:+0200
TZNAME:EET
DTSTART:20271031T010000
END:STANDARD
END:VTIMEZONE
BEGIN:VEVENT
DTSTART;TZID=Europe/Helsinki:20260601T080000
DTEND;TZID=Europe/Helsinki:20260605T170000
DTSTAMP:20260419T192604
CREATED:20251215T091505Z
LAST-MODIFIED:20251215T091508Z
UID:5417-1780300800-1780678800@schuleamwilhelmsberg.de
SUMMARY:Projektwoche inkl.BuJuspiele + Musiktag
DESCRIPTION:
URL:https://schuleamwilhelmsberg.de/event/projektwoche-inkl-bujuspiele-musiktag/
END:VEVENT
BEGIN:VEVENT
DTSTART;TZID=Europe/Helsinki:20260605T090000
DTEND;TZID=Europe/Helsinki:20260605T140000
DTSTAMP:20260419T192604
CREATED:20251215T091555Z
LAST-MODIFIED:20251215T091557Z
UID:5419-1780650000-1780668000@schuleamwilhelmsberg.de
SUMMARY:Sommerfest zum Kindertag
DESCRIPTION:
URL:https://schuleamwilhelmsberg.de/event/sommerfest-zum-kindertag-2/
END:VEVENT
END:VCALENDAR