BEGIN:VCALENDAR
VERSION:2.0
PRODID:-// - ECPv6.15.20//NONSGML v1.0//EN
CALSCALE:GREGORIAN
METHOD:PUBLISH
X-ORIGINAL-URL:https://schuleamwilhelmsberg.de
X-WR-CALDESC:Veranstaltungen für 
REFRESH-INTERVAL;VALUE=DURATION:PT1H
X-Robots-Tag:noindex
X-PUBLISHED-TTL:PT1H
BEGIN:VTIMEZONE
TZID:Europe/Helsinki
BEGIN:DAYLIGHT
TZOFFSETFROM:+0200
TZOFFSETTO:+0300
TZNAME:EEST
DTSTART:20250330T010000
END:DAYLIGHT
BEGIN:STANDARD
TZOFFSETFROM:+0300
TZOFFSETTO:+0200
TZNAME:EET
DTSTART:20251026T010000
END:STANDARD
BEGIN:DAYLIGHT
TZOFFSETFROM:+0200
TZOFFSETTO:+0300
TZNAME:EEST
DTSTART:20260329T010000
END:DAYLIGHT
BEGIN:STANDARD
TZOFFSETFROM:+0300
TZOFFSETTO:+0200
TZNAME:EET
DTSTART:20261025T010000
END:STANDARD
BEGIN:DAYLIGHT
TZOFFSETFROM:+0200
TZOFFSETTO:+0300
TZNAME:EEST
DTSTART:20270328T010000
END:DAYLIGHT
BEGIN:STANDARD
TZOFFSETFROM:+0300
TZOFFSETTO:+0200
TZNAME:EET
DTSTART:20271031T010000
END:STANDARD
END:VTIMEZONE
BEGIN:VEVENT
DTSTART;TZID=Europe/Helsinki:20260112T082500
DTEND;TZID=Europe/Helsinki:20260112T090500
DTSTAMP:20260419T220222
CREATED:20250919T074931Z
LAST-MODIFIED:20250919T074933Z
UID:5083-1768206300-1768208700@schuleamwilhelmsberg.de
SUMMARY:Vorlesen
DESCRIPTION:
URL:https://schuleamwilhelmsberg.de/event/vorlesen-8/
END:VEVENT
BEGIN:VEVENT
DTSTART;TZID=Europe/Helsinki:20260112T183000
DTEND;TZID=Europe/Helsinki:20260112T200000
DTSTAMP:20260419T220222
CREATED:20250919T074839Z
LAST-MODIFIED:20250919T074841Z
UID:5081-1768242600-1768248000@schuleamwilhelmsberg.de
SUMMARY:Gesamtelternvertretung
DESCRIPTION:
URL:https://schuleamwilhelmsberg.de/event/gesamtelternvertretung-5/
END:VEVENT
END:VCALENDAR