BEGIN:VCALENDAR
VERSION:2.0
PRODID:-// - ECPv6.15.20//NONSGML v1.0//EN
CALSCALE:GREGORIAN
METHOD:PUBLISH
X-ORIGINAL-URL:https://schuleamwilhelmsberg.de
X-WR-CALDESC:Veranstaltungen für 
REFRESH-INTERVAL;VALUE=DURATION:PT1H
X-Robots-Tag:noindex
X-PUBLISHED-TTL:PT1H
BEGIN:VTIMEZONE
TZID:Europe/Helsinki
BEGIN:DAYLIGHT
TZOFFSETFROM:+0200
TZOFFSETTO:+0300
TZNAME:EEST
DTSTART:20230326T010000
END:DAYLIGHT
BEGIN:STANDARD
TZOFFSETFROM:+0300
TZOFFSETTO:+0200
TZNAME:EET
DTSTART:20231029T010000
END:STANDARD
BEGIN:DAYLIGHT
TZOFFSETFROM:+0200
TZOFFSETTO:+0300
TZNAME:EEST
DTSTART:20240331T010000
END:DAYLIGHT
BEGIN:STANDARD
TZOFFSETFROM:+0300
TZOFFSETTO:+0200
TZNAME:EET
DTSTART:20241027T010000
END:STANDARD
BEGIN:DAYLIGHT
TZOFFSETFROM:+0200
TZOFFSETTO:+0300
TZNAME:EEST
DTSTART:20250330T010000
END:DAYLIGHT
BEGIN:STANDARD
TZOFFSETFROM:+0300
TZOFFSETTO:+0200
TZNAME:EET
DTSTART:20251026T010000
END:STANDARD
END:VTIMEZONE
BEGIN:VEVENT
DTSTART;TZID=Europe/Helsinki:20241118T000000
DTEND;TZID=Europe/Helsinki:20241122T235959
DTSTAMP:20260421T190608
CREATED:20240915T195127Z
LAST-MODIFIED:20240915T195130Z
UID:4200-1731888000-1732319999@schuleamwilhelmsberg.de
SUMMARY:Feedback Gespräche Päd.+SuS +Eltern 
DESCRIPTION:
URL:https://schuleamwilhelmsberg.de/event/feedback-gespraeche-paed-sus-eltern/
END:VEVENT
BEGIN:VEVENT
DTSTART;TZID=Europe/Helsinki:20241121T111500
DTEND;TZID=Europe/Helsinki:20241121T180000
DTSTAMP:20260421T190608
CREATED:20240915T195616Z
LAST-MODIFIED:20240915T195619Z
UID:4202-1732187700-1732212000@schuleamwilhelmsberg.de
SUMMARY:Lehrersprechtag
DESCRIPTION:Unterricht bis einschl. 4.h
URL:https://schuleamwilhelmsberg.de/event/lehrersprechtag-3/
END:VEVENT
END:VCALENDAR